BEGIN:VCALENDAR
VERSION:2.0
PRODID:-//ChamberMaster//Event Calendar 2.0//EN
METHOD:PUBLISH
X-PUBLISHED-TTL:P3D
REFRESH-INTERVAL:P3D
CALSCALE:GREGORIAN
BEGIN:VEVENT
DTSTART:20250503T120000Z
DTEND:20250503T180000Z
X-MICROSOFT-CDO-ALLDAYEVENT:FALSE
SUMMARY:Community Yard Sale
DESCRIPTION:For more information visit https://www.republicmo.com/1803/Community-Yard-Sale
X-ALT-DESC;FMTTYPE=text/html:For more information visit&nbsp\;<a href="https://www.republicmo.com/1803/Community-Yard-Sale">https://www.republicmo.com/1803/Community-Yard-Sale</a>
LOCATION:
UID:e.3080.13712
SEQUENCE:3
DTSTAMP:20260425T151056Z
URL:https://republicchamber.com/events/details/community-yard-sale-13712
END:VEVENT

END:VCALENDAR
