BEGIN:VCALENDAR
VERSION:2.0
PRODID:-//ChamberMaster//Event Calendar 2.0//EN
METHOD:PUBLISH
X-PUBLISHED-TTL:P3D
REFRESH-INTERVAL:P3D
CALSCALE:GREGORIAN
BEGIN:VEVENT
DTSTART:20250828T163000Z
DTEND:20250828T173000Z
X-MICROSOFT-CDO-ALLDAYEVENT:FALSE
SUMMARY:Crowded Table Ribbon Cutting
DESCRIPTION:
X-ALT-DESC;FMTTYPE=text/html:
LOCATION:Backwoods Golf 6155 W Republic Rd\, Brookline\, MO 65619
UID:e.3080.13718
SEQUENCE:3
DTSTAMP:20260425T215806Z
URL:https://republicchamber.com/events/details/crowded-table-ribbon-cutting-13718
END:VEVENT

END:VCALENDAR
