BEGIN:VCALENDAR
VERSION:2.0
PRODID:-//ChamberMaster//Event Calendar 2.0//EN
METHOD:PUBLISH
X-PUBLISHED-TTL:P3D
REFRESH-INTERVAL:P3D
CALSCALE:GREGORIAN
BEGIN:VEVENT
DTSTART:20250726T233000Z
DTEND:20250727T020000Z
X-MICROSOFT-CDO-ALLDAYEVENT:FALSE
SUMMARY:Geezer - Republic Historical Society Fundraiser
DESCRIPTION:For more information please visit - https://www.facebook.com/share/16bWVZTGfn/\n\nClick Here for Poster \n\nGeneral Admission $25\n\nRepublic Historical Society Members $20\n\nTickets Purchased at the Museum are discounted to $20\n\nTickets available on\n\nEventbrite:\n\nGeezer the band reunion\n\n& at the History Museum\n\n146 N Main\n\nFriday's Noon to 4pm\n\nSaturday's 10am to 2pm
X-ALT-DESC;FMTTYPE=text/html:<p>For more information please visit -<a href="https://www.facebook.com/share/16bWVZTGfn/">&nbsp\;https://www.facebook.com/share/16bWVZTGfn/</a><br />\n<a href="https://chambermaster.blob.core.windows.net/userfiles/UserFiles/chambers/3080/File/Geezer.pdf">Click Here for Poster</a>&nbsp\;</p>\n\n<p>General Admission $25<br />\nRepublic Historical Society Members $20<br />\nTickets Purchased at the Museum are discounted to $20<br />\nTickets available on<br />\nEventbrite:<br />\nGeezer the band reunion<br />\n&amp\; at the History Museum<br />\n146 N Main<br />\nFriday&rsquo\;s Noon to 4pm<br />\nSaturday&rsquo\;s 10am to 2pm</p>\n
LOCATION:
UID:e.3080.13725
SEQUENCE:3
DTSTAMP:20260425T183225Z
URL:https://republicchamber.com/events/details/geezer-republic-historical-society-fundraiser-13725
END:VEVENT

END:VCALENDAR
