BEGIN:VCALENDAR
VERSION:2.0
PRODID:-//ChamberMaster//Event Calendar 2.0//EN
METHOD:PUBLISH
X-PUBLISHED-TTL:P3D
REFRESH-INTERVAL:P3D
CALSCALE:GREGORIAN
BEGIN:VEVENT
DTSTART:20250717T210000Z
DTEND:20250718T000000Z
X-MICROSOFT-CDO-ALLDAYEVENT:FALSE
SUMMARY:Lavish Sound Open House
DESCRIPTION:Join us for an Open House at our Sound Bath studio on July 17th\, 2025\, from 4 PM to 7 PM! Drop in at your convenience to explore our tranquil space and discover the healing power of sound. Enjoy special discounts\, learn about our monthly membership options\, and take advantage of our loyalty card program. Refreshments will be provided\, so come relax and connect with our community. We can't wait to share this soothing experience with you!
X-ALT-DESC;FMTTYPE=text/html:Join us for an Open House at our Sound Bath studio on July 17th\, 2025\, from 4 PM to 7 PM! Drop in at your convenience to explore our tranquil space and discover the healing power of sound. Enjoy special discounts\, learn about our monthly membership options\, and take advantage of our loyalty card program. Refreshments will be provided\, so come relax and connect with our community. We can&rsquo\;t wait to share this soothing experience with you!
LOCATION:7342 W Farm Rd 170 Ste B Republic\, Mo 65738
UID:e.3080.13737
SEQUENCE:3
DTSTAMP:20260425T182408Z
URL:https://republicchamber.com/events/details/lavish-sound-open-house-13737
END:VEVENT

END:VCALENDAR
