BEGIN:VCALENDAR
VERSION:2.0
PRODID:-//ChamberMaster//Event Calendar 2.0//EN
METHOD:PUBLISH
X-PUBLISHED-TTL:P3D
REFRESH-INTERVAL:P3D
CALSCALE:GREGORIAN
BEGIN:VEVENT
DTSTART:20250506T161500Z
DTEND:20250506T180000Z
X-MICROSOFT-CDO-ALLDAYEVENT:FALSE
SUMMARY:May 2025 General Membership Luncheon
DESCRIPTION:Monthly networking luncheon featuring city\, school\, business\, and local community updates and speakers.\n\nPresentation by Elite Members Mid Missouri Bank and City of Republic\n\n\n\nWith Updates From:\n\nGreene County\n\nRepublic Schools\n\n\n\nSponsored By Pinegar Cheverolet and Magers Management
X-ALT-DESC;FMTTYPE=text/html:Monthly networking luncheon featuring city\, school\, business\, and local community updates and speakers.<br />\nPresentation by Elite Members Mid Missouri Bank and City of Republic<br />\n<br />\nWith Updates From:<br />\nGreene County<br />\nRepublic Schools<br />\n<br />\nSponsored By Pinegar Cheverolet and Magers Management
LOCATION:Spring Creek Estates Wedding & Event Venue 7368 W Farm Rd 186\, Republic\, MO 65738
UID:e.3080.13661
SEQUENCE:3
DTSTAMP:20260425T151055Z
URL:https://republicchamber.com/events/details/may-2025-general-membership-luncheon-13661
END:VEVENT

END:VCALENDAR
