BEGIN:VCALENDAR
VERSION:2.0
PRODID:-//ChamberMaster//Event Calendar 2.0//EN
METHOD:PUBLISH
X-PUBLISHED-TTL:P3D
REFRESH-INTERVAL:P3D
CALSCALE:GREGORIAN
BEGIN:VEVENT
DTSTART:20250807T160000Z
DTEND:20250807T180000Z
X-MICROSOFT-CDO-ALLDAYEVENT:FALSE
SUMMARY:New Teacher Luncheon 2025
DESCRIPTION:Welcome the New Teachers\n\nSponsor Teachers for the New Teacher Luncheon\n\nSponsored by Ozarks Club Z & Mid-Missouri Bank\n\nLunch Sponsored by Jenkins CPA
X-ALT-DESC;FMTTYPE=text/html:Welcome the New Teachers<br />\nSponsor Teachers for the New Teacher Luncheon<br />\nSponsored by Ozarks Club Z &amp\; Mid-Missouri Bank<br />\nLunch Sponsored by Jenkins CPA
LOCATION:Spring Creek Estates 7368 W Farm Rd 186\, Republic\, MO 65738
UID:e.3080.13665
SEQUENCE:3
DTSTAMP:20260425T202846Z
URL:https://republicchamber.com/events/details/new-teacher-luncheon-2025-13665
END:VEVENT

END:VCALENDAR
