BEGIN:VCALENDAR
VERSION:2.0
PRODID:-//ChamberMaster//Event Calendar 2.0//EN
METHOD:PUBLISH
X-PUBLISHED-TTL:P3D
REFRESH-INTERVAL:P3D
CALSCALE:GREGORIAN
BEGIN:VEVENT
DTSTART:20241212T173000Z
DTEND:20241212T183000Z
X-MICROSOFT-CDO-ALLDAYEVENT:FALSE
SUMMARY:Ribbon Cutting - 2 Hippie Kitties
DESCRIPTION:Ribbon Cutting for 2 Hippie Kitties\n\n\n	\n		\n			When\n			Thu Oct 17\, 2024 11:30am   12:30pm (CDT)\n		\n		\n			Where\n			121 E Grant St\, Republic\, Missouri 65738
X-ALT-DESC;FMTTYPE=text/html:<div class="aRo" style="color: rgb(34\, 34\, 34)\; font-size: 19.6px\; margin-bottom: 2px\; font-family: &quot\;Google Sans&quot\;\, Roboto\, RobotoDraft\, Helvetica\, Arial\, sans-serif\;">Ribbon Cutting for 2 Hippie Kitties</div>\n\n<table class="cf aU2" style="border-collapse: collapse\; table-layout: fixed\; width: auto\; word-break: break-word\; color: rgb(34\, 34\, 34)\; font-family: &quot\;Google Sans&quot\;\, Roboto\, RobotoDraft\, Helvetica\, Arial\, sans-serif\; font-size: 14px\;">\n	<tbody>\n		<tr>\n			<td class="aRk" style="margin: 0px\; padding: 2px 10px 6px 0px\; vertical-align: top\; overflow-wrap: break-word\; color: rgb(153\, 153\, 153)\; min-width: 48px\; text-wrap: nowrap\;">When</td>\n			<td class="aU6" id=":y5" style="margin: 0px\; padding-left: 0px\; padding-top: 2px\; vertical-align: top\; overflow-wrap: break-word\;">Thu Oct 17\, 2024 11:30am &ndash\; 12:30pm (CDT)</td>\n		</tr>\n		<tr>\n			<td class="aRk" style="margin: 0px\; padding: 2px 10px 6px 0px\; vertical-align: top\; overflow-wrap: break-word\; color: rgb(153\, 153\, 153)\; min-width: 48px\; text-wrap: nowrap\;">Where</td>\n			<td class="aU6" id=":y7" style="margin: 0px\; padding-left: 0px\; padding-top: 2px\; vertical-align: top\; overflow-wrap: break-word\;">121 E Grant St\, Republic\, Missouri 65738</td>\n		</tr>\n	</tbody>\n</table>\n
LOCATION:
UID:e.3080.13633
SEQUENCE:3
DTSTAMP:20260426T041732Z
URL:https://republicchamber.com/events/details/ribbon-cutting-2-hippie-kitties-13633
END:VEVENT

END:VCALENDAR
