BEGIN:VCALENDAR
VERSION:2.0
PRODID:-//ChamberMaster//Event Calendar 2.0//EN
METHOD:PUBLISH
X-PUBLISHED-TTL:P3D
REFRESH-INTERVAL:P3D
CALSCALE:GREGORIAN
BEGIN:VEVENT
DTSTART:20241217T220000Z
DTEND:20241217T230000Z
X-MICROSOFT-CDO-ALLDAYEVENT:FALSE
SUMMARY:Ribbon Cutting for Cherished Pets
DESCRIPTION:When\n			Tue Dec 17\, 2024 4pm   5pm (CST)\n		\n		\n			Where\n			2021 W Walnut Lawn St\, Springfield\, Missouri 65807\, United States
X-ALT-DESC;FMTTYPE=text/html:<table class="cf aU2" style="border-collapse: collapse\; table-layout: fixed\; width: auto\; word-break: break-word\; color: rgb(34\, 34\, 34)\; font-family: &quot\;Google Sans&quot\;\, Roboto\, RobotoDraft\, Helvetica\, Arial\, sans-serif\; font-size: 14px\;">\n	<tbody>\n		<tr>\n			<td class="aRk" style="margin: 0px\; padding: 2px 10px 6px 0px\; vertical-align: top\; overflow-wrap: break-word\; color: rgb(153\, 153\, 153)\; min-width: 48px\; text-wrap-mode: nowrap\;">When</td>\n			<td class="aU6" id=":112" style="margin: 0px\; padding-left: 0px\; padding-top: 2px\; vertical-align: top\; overflow-wrap: break-word\;">Tue Dec 17\, 2024 4pm &ndash\; 5pm (CST)</td>\n		</tr>\n		<tr>\n			<td class="aRk" style="margin: 0px\; padding: 2px 10px 6px 0px\; vertical-align: top\; overflow-wrap: break-word\; color: rgb(153\, 153\, 153)\; min-width: 48px\; text-wrap-mode: nowrap\;">Where</td>\n			<td class="aU6" id=":114" style="margin: 0px\; padding-left: 0px\; padding-top: 2px\; vertical-align: top\; overflow-wrap: break-word\;">2021 W Walnut Lawn St\, Springfield\, Missouri 65807\, United States</td>\n		</tr>\n	</tbody>\n</table>\n
LOCATION:
UID:e.3080.13656
SEQUENCE:3
DTSTAMP:20260426T041747Z
URL:https://republicchamber.com/events/details/ribbon-cutting-for-cherished-pets-13656
END:VEVENT

END:VCALENDAR
