BEGIN:VCALENDAR
VERSION:2.0
PRODID:-//ChamberMaster//Event Calendar 2.0//EN
METHOD:PUBLISH
X-PUBLISHED-TTL:P3D
REFRESH-INTERVAL:P3D
CALSCALE:GREGORIAN
BEGIN:VEVENT
DTSTART:20241219T173000Z
DTEND:20241219T183000Z
X-MICROSOFT-CDO-ALLDAYEVENT:FALSE
SUMMARY:Ribbon Cutting Main Street Market & Flowers
DESCRIPTION:Ribbon Cutting\n\nMain Street Market & Flowers\n\nDec 19th from 11:30-12:30\n\nLocation: 143 N. Main Ave. Republic\, MO 65738\n\nIn the Country Sunshine Building
X-ALT-DESC;FMTTYPE=text/html:Ribbon Cutting<br />\nMain Street Market &amp\; Flowers<br />\nDec 19th from 11:30-12:30<br />\nLocation: 143 N. Main Ave. Republic\, MO 65738<br />\nIn the Country Sunshine Building
LOCATION:
UID:e.3080.13652
SEQUENCE:3
DTSTAMP:20260426T041732Z
URL:https://republicchamber.com/events/details/ribbon-cutting-main-street-market-flowers-13652
END:VEVENT

END:VCALENDAR
