BEGIN:VCALENDAR
VERSION:2.0
PRODID:-//ChamberMaster//Event Calendar 2.0//EN
METHOD:PUBLISH
X-PUBLISHED-TTL:P3D
REFRESH-INTERVAL:P3D
CALSCALE:GREGORIAN
BEGIN:VEVENT
DTSTART:20260601T160000Z
DTEND:20260601T170000Z
X-MICROSOFT-CDO-ALLDAYEVENT:FALSE
SUMMARY:Ribbon Cutting: Republic Branch Library
DESCRIPTION:Republic Branch Library Grand Opening\n\nMonday\, June 1\, 2026\n\n10 a.m. - 5 p.m.\n \n\nThe fun awaits with special events for kids\, teens\, families and adults.\n\n \n\n\n	\n	10 - 11:30 a.m. Live Music with local musicians Mark Crabtree and Dan Lockmiller (Lobby)\n	\n	\n	10:30 a.m. MakerSpace Demonstration (MakerSpace)\n	\n	\n	11:30 a.m. Ceremony and Ribbon Cutting (Friends of the Library Auditorium)\n	\n	\n	12 p.m. Hot Dogs provided by Arvest Bank (Patio) \n	\n	\n	1 p.m. History of Republic by the Republic Historical Society (Friends of the Library Auditorium)\n	\n	\n	2 p.m. MakerSpace Demonstration (MakerSpace)\n	\n	\n	3:30 p.m. Alina Celeste & Mi Amigo Hamlet (Friends of the Library Auditorium) This event was sponsored by Friends of the Library\n	\n	\n	4:30 p.m. Ice Cream provided by Nabholz (Patio)
X-ALT-DESC;FMTTYPE=text/html:<p dir="ltr" style="color: rgb(34\, 34\, 34)\; font-family: Arial\, Helvetica\, sans-serif\; font-size: small\; line-height: 1.38\; margin-top: 0pt\; margin-bottom: 0pt\;"><span style="font-family: Arial\, sans-serif\; color: rgb(0\, 0\, 0)\; background-color: transparent\; font-variant-numeric: normal\; font-variant-east-asian: normal\; font-variant-alternates: normal\; vertical-align: baseline\;">Republic Branch Library Grand Opening</span></p>\n\n<p dir="ltr" style="color: rgb(34\, 34\, 34)\; font-family: Arial\, Helvetica\, sans-serif\; font-size: small\; line-height: 1.38\; margin-top: 0pt\; margin-bottom: 0pt\;"><span style="font-family: Arial\, sans-serif\; color: rgb(0\, 0\, 0)\; background-color: transparent\; font-variant-numeric: normal\; font-variant-east-asian: normal\; font-variant-alternates: normal\; vertical-align: baseline\;">Monday\, June 1\, 2026</span></p>\n\n<p dir="ltr" style="color: rgb(34\, 34\, 34)\; font-family: Arial\, Helvetica\, sans-serif\; font-size: small\; line-height: 1.38\; margin-top: 0pt\; margin-bottom: 0pt\;"><span style="font-family: Arial\, sans-serif\; color: rgb(0\, 0\, 0)\; background-color: transparent\; font-variant-numeric: normal\; font-variant-east-asian: normal\; font-variant-alternates: normal\; vertical-align: baseline\;">10 a.m. - 5 p.m.</span></p>\n&nbsp\;\n\n<p dir="ltr" style="color: rgb(34\, 34\, 34)\; font-family: Arial\, Helvetica\, sans-serif\; font-size: small\; line-height: 1.38\; margin-top: 0pt\; margin-bottom: 0pt\;"><span style="font-family: Arial\, sans-serif\; color: rgb(0\, 0\, 0)\; background-color: transparent\; font-variant-numeric: normal\; font-variant-east-asian: normal\; font-variant-alternates: normal\; vertical-align: baseline\;">The fun awaits with special events for kids\, teens\, families and adults.</span></p>\n\n<p dir="ltr" style="color: rgb(34\, 34\, 34)\; font-family: Arial\, Helvetica\, sans-serif\; font-size: small\; line-height: 1.38\; margin-top: 0pt\; margin-bottom: 0pt\;">&nbsp\;</p>\n\n<ul style="color: rgb(34\, 34\, 34)\; font-family: Arial\, Helvetica\, sans-serif\; font-size: small\; margin-top: 0px\; margin-bottom: 0px\;">\n	<li style="margin-left: 15px\; list-style-type: disc\; font-family: Arial\, sans-serif\; color: rgb(0\, 0\, 0)\; background-color: transparent\; font-variant-numeric: normal\; font-variant-east-asian: normal\; font-variant-alternates: normal\; vertical-align: baseline\; white-space-collapse: preserve\;">\n	<p role="presentation" style="line-height: 1.38\; margin-top: 0pt\; margin-bottom: 0pt\;"><span style="background-color: transparent\; font-variant-numeric: normal\; font-variant-east-asian: normal\; font-variant-alternates: normal\; vertical-align: baseline\;">10 - 11:30 a.m. Live Music with local musicians Mark Crabtree and Dan Lockmiller (Lobby)</span></p>\n	</li>\n	<li style="margin-left: 15px\; list-style-type: disc\; font-family: Arial\, sans-serif\; color: rgb(0\, 0\, 0)\; background-color: transparent\; font-variant-numeric: normal\; font-variant-east-asian: normal\; font-variant-alternates: normal\; vertical-align: baseline\; white-space-collapse: preserve\;">\n	<p role="presentation" style="line-height: 1.38\; margin-top: 0pt\; margin-bottom: 0pt\;"><span style="background-color: transparent\; font-variant-numeric: normal\; font-variant-east-asian: normal\; font-variant-alternates: normal\; vertical-align: baseline\;">10:30 a.m. MakerSpace Demonstration (MakerSpace)</span></p>\n	</li>\n	<li style="margin-left: 15px\; list-style-type: disc\; font-family: Arial\, sans-serif\; color: rgb(0\, 0\, 0)\; background-color: transparent\; font-variant-numeric: normal\; font-variant-east-asian: normal\; font-variant-alternates: normal\; vertical-align: baseline\; white-space-collapse: preserve\;">\n	<p role="presentation" style="line-height: 1.38\; margin-top: 0pt\; margin-bottom: 0pt\;"><span style="background-color: transparent\; font-variant-numeric: normal\; font-variant-east-asian: normal\; font-variant-alternates: normal\; vertical-align: baseline\;">11:30 a.m. Ceremony and Ribbon Cutting (Friends of the Library Auditorium)</span></p>\n	</li>\n	<li style="margin-left: 15px\; list-style-type: disc\; font-family: Arial\, sans-serif\; color: rgb(0\, 0\, 0)\; background-color: transparent\; font-variant-numeric: normal\; font-variant-east-asian: normal\; font-variant-alternates: normal\; vertical-align: baseline\; white-space-collapse: preserve\;">\n	<p role="presentation" style="line-height: 1.38\; margin-top: 0pt\; margin-bottom: 0pt\;"><span style="background-color: transparent\; font-variant-numeric: normal\; font-variant-east-asian: normal\; font-variant-alternates: normal\; vertical-align: baseline\;">12 p.m. Hot Dogs provided by Arvest Bank (Patio)&nbsp\;</span></p>\n	</li>\n	<li style="margin-left: 15px\; list-style-type: disc\; font-family: Arial\, sans-serif\; color: rgb(0\, 0\, 0)\; background-color: transparent\; font-variant-numeric: normal\; font-variant-east-asian: normal\; font-variant-alternates: normal\; vertical-align: baseline\; white-space-collapse: preserve\;">\n	<p role="presentation" style="line-height: 1.38\; margin-top: 0pt\; margin-bottom: 0pt\;"><span style="background-color: transparent\; font-variant-numeric: normal\; font-variant-east-asian: normal\; font-variant-alternates: normal\; vertical-align: baseline\;">1 p.m. History of Republic by the Republic Historical Society (Friends of the Library Auditorium)</span></p>\n	</li>\n	<li style="margin-left: 15px\; list-style-type: disc\; font-family: Arial\, sans-serif\; color: rgb(0\, 0\, 0)\; background-color: transparent\; font-variant-numeric: normal\; font-variant-east-asian: normal\; font-variant-alternates: normal\; vertical-align: baseline\; white-space-collapse: preserve\;">\n	<p role="presentation" style="line-height: 1.38\; margin-top: 0pt\; margin-bottom: 0pt\;"><span style="background-color: transparent\; font-variant-numeric: normal\; font-variant-east-asian: normal\; font-variant-alternates: normal\; vertical-align: baseline\;">2 p.m. MakerSpace Demonstration (MakerSpace)</span></p>\n	</li>\n	<li style="margin-left: 15px\; list-style-type: disc\; font-family: Arial\, sans-serif\; color: rgb(0\, 0\, 0)\; background-color: transparent\; font-variant-numeric: normal\; font-variant-east-asian: normal\; font-variant-alternates: normal\; vertical-align: baseline\; white-space-collapse: preserve\;">\n	<p role="presentation" style="line-height: 1.38\; margin-top: 0pt\; margin-bottom: 0pt\;"><span style="background-color: transparent\; font-variant-numeric: normal\; font-variant-east-asian: normal\; font-variant-alternates: normal\; vertical-align: baseline\;">3:30 p.m. Alina Celeste &amp\; Mi Amigo Hamlet (Friends of the Library Auditorium) </span><span style="background-color: transparent\; font-style: italic\; font-variant-numeric: normal\; font-variant-east-asian: normal\; font-variant-alternates: normal\; vertical-align: baseline\;">This event was sponsored by Friends of the Library</span></p>\n	</li>\n	<li style="margin-left: 15px\; list-style-type: disc\; font-family: Arial\, sans-serif\; color: rgb(0\, 0\, 0)\; background-color: transparent\; font-variant-numeric: normal\; font-variant-east-asian: normal\; font-variant-alternates: normal\; vertical-align: baseline\; white-space-collapse: preserve\;">\n	<p role="presentation" style="line-height: 1.38\; margin-top: 0pt\; margin-bottom: 0pt\;"><span style="background-color: transparent\; font-variant-numeric: normal\; font-variant-east-asian: normal\; font-variant-alternates: normal\; vertical-align: baseline\;">4:30 p.m. Ice Cream provided by Nabholz (Patio) </span></p>\n	</li>\n</ul>\n
LOCATION:921 N Lindsey Ave\, Republic\, MO 65738
UID:e.3080.13823
SEQUENCE:3
DTSTAMP:20260421T101908Z
URL:https://republicchamber.com/events/details/ribbon-cutting-republic-branch-library-13823
END:VEVENT

END:VCALENDAR
