BEGIN:VCALENDAR
VERSION:2.0
PRODID:-//ChamberMaster//Event Calendar 2.0//EN
METHOD:PUBLISH
X-PUBLISHED-TTL:P3D
REFRESH-INTERVAL:P3D
CALSCALE:GREGORIAN
BEGIN:VEVENT
DTSTART:20250911T163000Z
DTEND:20250911T173000Z
X-MICROSOFT-CDO-ALLDAYEVENT:FALSE
SUMMARY:Ribbon Cutting Republic Nursing & Rehab
DESCRIPTION:
X-ALT-DESC;FMTTYPE=text/html:
LOCATION:901 E HWY 174 Republic\, MO 65738
UID:e.3080.13726
SEQUENCE:3
DTSTAMP:20260425T215924Z
URL:https://republicchamber.com/events/details/ribbon-cutting-republic-nursing-rehab-13726
END:VEVENT

END:VCALENDAR
