BEGIN:VCALENDAR
VERSION:2.0
PRODID:-//ChamberMaster//Event Calendar 2.0//EN
METHOD:PUBLISH
X-PUBLISHED-TTL:P3D
REFRESH-INTERVAL:P3D
CALSCALE:GREGORIAN
BEGIN:VEVENT
DTSTART:20250327T163000Z
DTEND:20250327T173000Z
X-MICROSOFT-CDO-ALLDAYEVENT:FALSE
SUMMARY:Ribbon Cutting Sports Clips
DESCRIPTION:
X-ALT-DESC;FMTTYPE=text/html:
LOCATION:545 E Elm Republic\, MO 65738
UID:e.3080.13684
SEQUENCE:3
DTSTAMP:20260420T104944Z
URL:https://republicchamber.com/events/details/ribbon-cutting-sports-clips-13684
END:VEVENT

END:VCALENDAR
