BEGIN:VCALENDAR
VERSION:2.0
PRODID:-//ChamberMaster//Event Calendar 2.0//EN
METHOD:PUBLISH
X-PUBLISHED-TTL:P3D
REFRESH-INTERVAL:P3D
CALSCALE:GREGORIAN
BEGIN:VEVENT
DTSTART:20250902T161500Z
DTEND:20250902T180000Z
X-MICROSOFT-CDO-ALLDAYEVENT:FALSE
SUMMARY:Sept 2025 General Membership Luncheon
DESCRIPTION:Monthly networking luncheon featuring city\, school\, business\, and local community updates and speakers.\n\nPresentation by Elite Members Republic Schools and Convoy of Hope\n\n\n\nWith Updates From:\n\nGreene County\n\nRepublic Schools\n\n\n\nSponsored By Mizzou Extension and BluCurrent
X-ALT-DESC;FMTTYPE=text/html:Monthly networking luncheon featuring city\, school\, business\, and local community updates and speakers.<br />\nPresentation by Elite Members Republic Schools and Convoy of Hope<br />\n<br />\nWith Updates From:<br />\nGreene County<br />\nRepublic Schools<br />\n<br />\nSponsored By Mizzou Extension and BluCurrent
LOCATION:Convoy of Hope 1 Convoy Drive\, Springfield\, MO 65802
UID:e.3080.13666
SEQUENCE:3
DTSTAMP:20260425T233504Z
URL:https://republicchamber.com/events/details/sept-2025-general-membership-luncheon-13666
END:VEVENT

END:VCALENDAR
